BEGIN:VCALENDAR
VERSION:2.0
PRODID:SchoolNow
CALSCALE:GREGORIAN
BEGIN:VEVENT
UID:17ea2c9a-72eb-11f0-ad27-0a58a9feac02
DTSTAMP:20251216T154634Z
SUMMARY:Math Club
URL;VALUE=URI:https://www.cusd201.org/wjhs/calendar/8476919/math-club
DTSTART:20260212T134500Z
DTEND:20260212T141500Z
END:VEVENT
END:VCALENDAR
