BEGIN:VCALENDAR
VERSION:2.0
PRODID:SchoolNow
CALSCALE:GREGORIAN
BEGIN:VEVENT
UID:17ea2d80-72eb-11f0-9ce8-0a58a9feac02
DTSTAMP:20251216T154634Z
SUMMARY:Math Club
URL;VALUE=URI:https://www.cusd201.org/wjhs/calendar/8476920/math-club
DTSTART:20260219T134500Z
DTEND:20260219T141500Z
END:VEVENT
END:VCALENDAR
