BEGIN:VCALENDAR
VERSION:2.0
PRODID:SchoolNow
CALSCALE:GREGORIAN
BEGIN:VEVENT
UID:17ea303c-72eb-11f0-af43-0a58a9feac02
DTSTAMP:20251216T154634Z
SUMMARY:Math Club
URL;VALUE=URI:https://www.cusd201.org/wjhs/calendar/8476923/math-club
DTSTART:20260319T124500Z
DTEND:20260319T131500Z
END:VEVENT
END:VCALENDAR
