BEGIN:VCALENDAR
VERSION:2.0
PRODID:SchoolNow
CALSCALE:GREGORIAN
BEGIN:VEVENT
UID:17ea3500-72eb-11f0-8997-0a58a9feac02
DTSTAMP:20251216T154633Z
SUMMARY:Math Club
URL;VALUE=URI:https://www.cusd201.org/wjhs/calendar/8476928/math-club
DTSTART:20260430T124500Z
DTEND:20260430T131500Z
END:VEVENT
END:VCALENDAR
