BEGIN:VCALENDAR
VERSION:2.0
PRODID:SchoolNow
CALSCALE:GREGORIAN
BEGIN:VEVENT
UID:05c84204-73ea-11f0-b947-0a58a9feac02
DTSTAMP:20251216T154633Z
SUMMARY:WJHS PTO Meeting
URL;VALUE=URI:https://www.cusd201.org/wjhs/calendar/8481638/wjhs-pto-meetin
 g
DTSTART:20260219T000000Z
DTEND:20260219T010000Z
END:VEVENT
END:VCALENDAR
