BEGIN:VCALENDAR
VERSION:2.0
PRODID:SchoolNow
CALSCALE:GREGORIAN
BEGIN:VEVENT
UID:543947c2-81db-11f0-92af-0affe87c8b19
DTSTAMP:20251216T154633Z
SUMMARY:Pep Band - Group 2
URL;VALUE=URI:https://www.cusd201.org/wjhs/calendar/8542076/pep-band-group-
 2
DTSTART:20260115T213000Z
DTEND:20260115T231000Z
END:VEVENT
END:VCALENDAR
