BEGIN:VCALENDAR
VERSION:2.0
PRODID:SchoolNow
CALSCALE:GREGORIAN
BEGIN:VEVENT
UID:543948bc-81db-11f0-b49a-0affe87c8b19
DTSTAMP:20251216T154635Z
SUMMARY:Pep Band - Group 1
URL;VALUE=URI:https://www.cusd201.org/wjhs/calendar/8542077/pep-band-group-
 1
DTSTART:20260106T213000Z
DTEND:20260106T231000Z
END:VEVENT
END:VCALENDAR
