BEGIN:VCALENDAR
VERSION:2.0
PRODID:SchoolNow
CALSCALE:GREGORIAN
BEGIN:VEVENT
UID:54394c7c-81db-11f0-a17d-0affe87c8b19
DTSTAMP:20251216T154635Z
SUMMARY:Band Concert Rehearsal
URL;VALUE=URI:https://www.cusd201.org/wjhs/calendar/8542081/band-concert-re
 hearsal
DTSTART:20260316T203000Z
DTEND:20260316T221000Z
END:VEVENT
END:VCALENDAR
