BEGIN:VCALENDAR
VERSION:2.0
PRODID:SchoolNow
CALSCALE:GREGORIAN
BEGIN:VEVENT
UID:30b941b4-8472-11f0-ba2c-0a58a9feac02
DTSTAMP:20251216T154634Z
SUMMARY:Art Club
URL;VALUE=URI:https://www.cusd201.org/wjhs/calendar/8556655/art-club
DTSTART:20260112T211500Z
DTEND:20260112T221500Z
END:VEVENT
END:VCALENDAR
