BEGIN:VCALENDAR
VERSION:2.0
PRODID:SchoolNow
CALSCALE:GREGORIAN
BEGIN:VEVENT
UID:30b94434-8472-11f0-ab0f-0a58a9feac02
DTSTAMP:20251216T154634Z
SUMMARY:Art Club
URL;VALUE=URI:https://www.cusd201.org/wjhs/calendar/8556657/art-club
DTSTART:20260209T211500Z
DTEND:20260209T221500Z
END:VEVENT
END:VCALENDAR
