BEGIN:VCALENDAR
VERSION:2.0
PRODID:SchoolNow
CALSCALE:GREGORIAN
BEGIN:VEVENT
UID:30b9452e-8472-11f0-b606-0a58a9feac02
DTSTAMP:20251216T154634Z
SUMMARY:Art Club
URL;VALUE=URI:https://www.cusd201.org/wjhs/calendar/8556658/art-club
DTSTART:20260309T201500Z
DTEND:20260309T211500Z
END:VEVENT
END:VCALENDAR
