BEGIN:VCALENDAR
VERSION:2.0
PRODID:SchoolNow
CALSCALE:GREGORIAN
BEGIN:VEVENT
UID:fff5d926-883a-11f0-80fb-02aff51ce1bb
DTSTAMP:20251216T154635Z
SUMMARY:Oakwood Homeowners Assoc - Monthly Board Meeting
URL;VALUE=URI:https://www.cusd201.org/wjhs/calendar/8571952/oakwood-homeown
 ers-assoc-monthly-board-meeting
DTSTART:20260107T013000Z
DTEND:20260107T030000Z
END:VEVENT
END:VCALENDAR
