BEGIN:VCALENDAR
VERSION:2.0
PRODID:SchoolNow
CALSCALE:GREGORIAN
BEGIN:VEVENT
UID:e8d53f1a-8a6b-11f0-985c-0a58a9feac02
DTSTAMP:20251216T154635Z
SUMMARY:Swing Choir and Jazz Band tour
URL;VALUE=URI:https://www.cusd201.org/wjhs/calendar/8584609/swing-choir-and
 -jazz-band-tour
DTSTART:20260320T134500Z
DTEND:20260320T191500Z
END:VEVENT
END:VCALENDAR
