BEGIN:VCALENDAR
VERSION:2.0
PRODID:SchoolNow
CALSCALE:GREGORIAN
BEGIN:VEVENT
UID:bf9c6288-8d02-11f0-89c3-0221a5ae54cb
DTSTAMP:20251216T154633Z
SUMMARY:Wrestling vs Reed Custer/Richland HOME
LOCATION:WJHS-1-Gym (500)
URL;VALUE=URI:https://www.cusd201.org/wjhs/calendar/8597315/wrestling-vs-re
 ed-custer-richland-home
DTSTART:20260108T223000Z
DTEND:20260109T003000Z
END:VEVENT
END:VCALENDAR
