BEGIN:VCALENDAR
VERSION:2.0
PRODID:SchoolNow
CALSCALE:GREGORIAN
BEGIN:VEVENT
UID:bf9c63be-8d02-11f0-a1d9-0221a5ae54cb
DTSTAMP:20251216T154635Z
SUMMARY:Wrestling vs Elm Middle School AWAY 7607 W Cortland St\, Elmwood Pa
 rk
LOCATION:Elm Middle School\, 7607 W Cortland St\, Elmwood Park\, IL 60707\,
  USA
URL;VALUE=URI:https://www.cusd201.org/wjhs/calendar/8597316/wrestling-vs-el
 m-middle-school-away-7607-w-cortland-st-elmwood-park
DTSTART:20260129T223000Z
DTEND:20260130T003000Z
END:VEVENT
END:VCALENDAR
