BEGIN:VCALENDAR
VERSION:2.0
PRODID:SchoolNow
CALSCALE:GREGORIAN
BEGIN:VEVENT
UID:b60e6566-8e67-11f0-aff3-0a58a9feac02
DTSTAMP:20251216T154633Z
SUMMARY:Wrestling vs Jane Addams HOME
LOCATION:WJHS-1-Gym (500)
URL;VALUE=URI:https://www.cusd201.org/wjhs/calendar/8606113/wrestling-vs-ja
 ne-addams-home
DTSTART:20260205T223000Z
DTEND:20260206T003000Z
END:VEVENT
END:VCALENDAR
