BEGIN:VCALENDAR
VERSION:2.0
PRODID:SchoolNow
CALSCALE:GREGORIAN
BEGIN:VEVENT
UID:0d7b2db4-9af4-11f0-9187-0a58a9feac02
DTSTAMP:20251216T154635Z
SUMMARY:Wrestling vs Gurrie AWAY 1001 S Spring Ave. LaGrange
LOCATION:William F. Gurrie Middle School\, 1001 S Spring Ave\, La Grange\, 
 IL 60525\, USA
URL;VALUE=URI:https://www.cusd201.org/wjhs/calendar/8667827/wrestling-vs-gu
 rrie-away-1001-s-spring-ave-lagrange
DTSTART:20260219T221500Z
DTEND:20260220T001500Z
END:VEVENT
END:VCALENDAR
