BEGIN:VCALENDAR
VERSION:2.0
PRODID:SchoolNow
CALSCALE:GREGORIAN
BEGIN:VEVENT
UID:9cac3282-a3b7-11f0-bfe7-0a58a9feac02
DTSTAMP:20251216T154633Z
SUMMARY:Wrestling Practice
LOCATION:WJHS-1-Commons (400)
URL;VALUE=URI:https://www.cusd201.org/wjhs/calendar/8703658/wrestling-pract
 ice
DTSTART:20260116T211500Z
DTEND:20260116T231500Z
END:VEVENT
END:VCALENDAR
