BEGIN:VCALENDAR
VERSION:2.0
PRODID:SchoolNow
CALSCALE:GREGORIAN
BEGIN:VEVENT
UID:9cac344e-a3b7-11f0-bf7f-0a58a9feac02
DTSTAMP:20251216T154635Z
SUMMARY:Wrestling Practice
LOCATION:WJHS-1-Commons (400)
URL;VALUE=URI:https://www.cusd201.org/wjhs/calendar/8703660/wrestling-pract
 ice
DTSTART:20260123T211500Z
DTEND:20260123T231500Z
END:VEVENT
END:VCALENDAR
