BEGIN:VCALENDAR
VERSION:2.0
PRODID:SchoolNow
CALSCALE:GREGORIAN
BEGIN:VEVENT
UID:9cac3f5c-a3b7-11f0-ad00-0a58a9feac02
DTSTAMP:20251216T154633Z
SUMMARY:IESA Wrestling STATE Finals
URL;VALUE=URI:https://www.cusd201.org/wjhs/calendar/8703671/iesa-wrestling-
 state-finals
DTSTART;VALUE=DATE:20260314
DTEND;VALUE=DATE:20260315
END:VEVENT
END:VCALENDAR
