BEGIN:VCALENDAR
VERSION:2.0
PRODID:SchoolNow
CALSCALE:GREGORIAN
BEGIN:VEVENT
UID:9cac4038-a3b7-11f0-9e18-0a58a9feac02
DTSTAMP:20251216T154634Z
SUMMARY:IESA Wrestling STATE Finals
URL;VALUE=URI:https://www.cusd201.org/wjhs/calendar/8703672/iesa-wrestling-
 state-finals
DTSTART;VALUE=DATE:20260313
DTEND;VALUE=DATE:20260314
END:VEVENT
END:VCALENDAR
