BEGIN:VCALENDAR
VERSION:2.0
PRODID:SchoolNow
CALSCALE:GREGORIAN
BEGIN:VEVENT
UID:9cac4114-a3b7-11f0-8e3a-0a58a9feac02
DTSTAMP:20251216T154633Z
SUMMARY:IESA Wrestling SECTIONALS Finals
URL;VALUE=URI:https://www.cusd201.org/wjhs/calendar/8703673/iesa-wrestling-
 sectionals-finals
DTSTART;VALUE=DATE:20260307
DTEND;VALUE=DATE:20260308
END:VEVENT
END:VCALENDAR
