BEGIN:VCALENDAR
VERSION:2.0
PRODID:SchoolNow
CALSCALE:GREGORIAN
BEGIN:VEVENT
UID:9cac41f0-a3b7-11f0-85af-0a58a9feac02
DTSTAMP:20251216T154634Z
SUMMARY:IESA Wrestling REGIONALS REGION 3 Finals
URL;VALUE=URI:https://www.cusd201.org/wjhs/calendar/8703674/iesa-wrestling-
 regionals-region-3-finals
DTSTART;VALUE=DATE:20260228
DTEND;VALUE=DATE:20260301
END:VEVENT
END:VCALENDAR
