BEGIN:VCALENDAR
VERSION:2.0
PRODID:SchoolNow
CALSCALE:GREGORIAN
BEGIN:VEVENT
UID:9cac4808-a3b7-11f0-847e-0a58a9feac02
DTSTAMP:20251216T154634Z
SUMMARY:Wrestling Practice
LOCATION:WJHS-1-Commons (400)
URL;VALUE=URI:https://www.cusd201.org/wjhs/calendar/8703681/wrestling-pract
 ice
DTSTART:20260312T201500Z
DTEND:20260312T221500Z
END:VEVENT
END:VCALENDAR
