BEGIN:VCALENDAR
VERSION:2.0
PRODID:SchoolNow
CALSCALE:GREGORIAN
BEGIN:VEVENT
UID:54660154-a918-11f0-a9d2-0a58a9feac02
DTSTAMP:20251216T154635Z
SUMMARY:Future City
LOCATION:WJHS-1-208 - Science (30)
URL;VALUE=URI:https://www.cusd201.org/wjhs/calendar/8721997/future-city
DTSTART:20260112T211500Z
DTEND:20260112T221500Z
END:VEVENT
END:VCALENDAR
