BEGIN:VCALENDAR
VERSION:2.0
PRODID:SchoolNow
CALSCALE:GREGORIAN
BEGIN:VEVENT
UID:468f1282-aa17-11f0-b8e6-0a58a9feac02
DTSTAMP:20251216T154634Z
SUMMARY:Pizza Wars
LOCATION:WJHS-1-Gym (500)
URL;VALUE=URI:https://www.cusd201.org/wjhs/calendar/8725804/pizza-wars
DTSTART:20260225T233000Z
DTEND:20260226T013000Z
END:VEVENT
END:VCALENDAR
