BEGIN:VCALENDAR
VERSION:2.0
PRODID:SchoolNow
CALSCALE:GREGORIAN
BEGIN:VEVENT
UID:7cc3c3d8-af90-11f0-bfe8-0e5955d9fdf1
DTSTAMP:20251216T154633Z
SUMMARY:Cheer IESA State Competition  201 SW Jefferson Ave\, Peoria
LOCATION:Peoria Civic Center\, 201 SW Jefferson Ave\, Peoria\, IL 61602\, U
 SA
URL;VALUE=URI:https://www.cusd201.org/wjhs/calendar/8743805/cheer-iesa-stat
 e-competition-201-sw-jefferson-ave-peoria
DTSTART;VALUE=DATE:20260211
DTEND;VALUE=DATE:20260212
END:VEVENT
END:VCALENDAR
