BEGIN:VCALENDAR
VERSION:2.0
PRODID:SchoolNow
CALSCALE:GREGORIAN
BEGIN:VEVENT
UID:2f96f174-b5bd-11f0-b9a1-0a58a9feac02
DTSTAMP:20251216T154634Z
SUMMARY:Chess Club
URL;VALUE=URI:https://www.cusd201.org/wjhs/calendar/8761921/chess-club
DTSTART:20260112T211500Z
DTEND:20260112T221500Z
END:VEVENT
END:VCALENDAR
