BEGIN:VCALENDAR
VERSION:2.0
PRODID:SchoolNow
CALSCALE:GREGORIAN
BEGIN:VEVENT
UID:2f96f5ac-b5bd-11f0-a608-0a58a9feac02
DTSTAMP:20251216T154633Z
SUMMARY:Chess Club
URL;VALUE=URI:https://www.cusd201.org/wjhs/calendar/8761924/chess-club
DTSTART:20260116T211500Z
DTEND:20260116T221500Z
END:VEVENT
END:VCALENDAR
