BEGIN:VCALENDAR
VERSION:2.0
PRODID:SchoolNow
CALSCALE:GREGORIAN
BEGIN:VEVENT
UID:2f9700ec-b5bd-11f0-9d05-0a58a9feac02
DTSTAMP:20251216T154634Z
SUMMARY:Chess Club
URL;VALUE=URI:https://www.cusd201.org/wjhs/calendar/8761926/chess-club
DTSTART:20260126T211500Z
DTEND:20260126T221500Z
END:VEVENT
END:VCALENDAR
