BEGIN:VCALENDAR
VERSION:2.0
PRODID:SchoolNow
CALSCALE:GREGORIAN
BEGIN:VEVENT
UID:2f9706d2-b5bd-11f0-9f03-0a58a9feac02
DTSTAMP:20251216T154633Z
SUMMARY:Chess Club
URL;VALUE=URI:https://www.cusd201.org/wjhs/calendar/8761930/chess-club
DTSTART:20260217T211500Z
DTEND:20260217T221500Z
END:VEVENT
END:VCALENDAR
