BEGIN:VCALENDAR
VERSION:2.0
PRODID:SchoolNow
CALSCALE:GREGORIAN
BEGIN:VEVENT
UID:2f970812-b5bd-11f0-885c-0a58a9feac02
DTSTAMP:20251216T154633Z
SUMMARY:Chess Club
URL;VALUE=URI:https://www.cusd201.org/wjhs/calendar/8761931/chess-club
DTSTART:20260220T211500Z
DTEND:20260220T221500Z
END:VEVENT
END:VCALENDAR
