BEGIN:VCALENDAR
VERSION:2.0
PRODID:SchoolNow
CALSCALE:GREGORIAN
BEGIN:VEVENT
UID:c1629110-bf4c-11f0-9071-0affd880cb73
DTSTAMP:20251216T154634Z
SUMMARY:Cheer/Wrestling Team/Individual Pictures
URL;VALUE=URI:https://www.cusd201.org/wjhs/calendar/8789938/cheer-wrestling
 -team-individual-pictures
DTSTART:20260113T213000Z
DTEND:20260113T231500Z
END:VEVENT
END:VCALENDAR
