BEGIN:VCALENDAR
VERSION:2.0
PRODID:SchoolNow
CALSCALE:GREGORIAN
BEGIN:VEVENT
UID:a15d8422-c1b0-11f0-b015-0e11e61b1f39
DTSTAMP:20251216T154635Z
SUMMARY:Boys Basketball Practice
LOCATION:WJHS-1-Gym (500)
URL;VALUE=URI:https://www.cusd201.org/wjhs/calendar/8796414/boys-basketball
 -practice
DTSTART:20260114T130000Z
DTEND:20260114T140000Z
END:VEVENT
END:VCALENDAR
