BEGIN:VCALENDAR
VERSION:2.0
PRODID:SchoolNow
CALSCALE:GREGORIAN
BEGIN:VEVENT
UID:82f5678c-c414-11f0-ad2c-02316f367015
DTSTAMP:20251216T154633Z
SUMMARY:Cheer Competition Middle School Mashup 16100 W 127th St\, Lemont
LOCATION:Old Quarry Middle School\, 16100 W 127th St\, Lemont\, IL 60439\, 
 USA
URL;VALUE=URI:https://www.cusd201.org/wjhs/calendar/8800749/cheer-competiti
 on-middle-school-mashup-16100-w-127th-st-lemont
DTSTART;VALUE=DATE:20260110
DTEND;VALUE=DATE:20260111
END:VEVENT
END:VCALENDAR
