BEGIN:VCALENDAR
VERSION:2.0
PRODID:SchoolNow
CALSCALE:GREGORIAN
BEGIN:VEVENT
UID:f5472558-cfa1-11f0-9c6c-02ced5e838d5
DTSTAMP:20251216T154633Z
SUMMARY:Girls Volleyball Practice
LOCATION:WJHS-1-Gym (500)
URL;VALUE=URI:https://www.cusd201.org/wjhs/calendar/8815659/girls-volleybal
 l-practice
DTSTART:20260120T211500Z
DTEND:20260120T231500Z
END:VEVENT
END:VCALENDAR
