BEGIN:VCALENDAR
VERSION:2.0
PRODID:SchoolNow
CALSCALE:GREGORIAN
BEGIN:VEVENT
UID:f61cd0c2-cfa1-11f0-bcb2-02ced5e838d5
DTSTAMP:20251216T154634Z
SUMMARY:Girls Volleyball Practice
LOCATION:WJHS-1-Gym (500)
URL;VALUE=URI:https://www.cusd201.org/wjhs/calendar/8815662/girls-volleybal
 l-practice
DTSTART:20260220T211500Z
DTEND:20260220T231500Z
END:VEVENT
END:VCALENDAR
