BEGIN:VCALENDAR
VERSION:2.0
PRODID:SchoolNow
CALSCALE:GREGORIAN
BEGIN:VEVENT
UID:f61cd734-cfa1-11f0-9f4b-02ced5e838d5
DTSTAMP:20251216T154634Z
SUMMARY:Girls Volleyball Practice
LOCATION:WJHS-1-Gym (500)
URL;VALUE=URI:https://www.cusd201.org/wjhs/calendar/8815663/girls-volleybal
 l-practice
DTSTART:20260129T211500Z
DTEND:20260129T231500Z
END:VEVENT
END:VCALENDAR
