BEGIN:VCALENDAR
VERSION:2.0
PRODID:SchoolNow
CALSCALE:GREGORIAN
BEGIN:VEVENT
UID:f62676cc-cfa1-11f0-84ef-02ced5e838d5
DTSTAMP:20251216T154634Z
SUMMARY:Girls Volleyball Practice
LOCATION:WJHS-1-Gym (500)
URL;VALUE=URI:https://www.cusd201.org/wjhs/calendar/8815666/girls-volleybal
 l-practice
DTSTART:20260113T211500Z
DTEND:20260113T231500Z
END:VEVENT
END:VCALENDAR
