BEGIN:VCALENDAR
VERSION:2.0
PRODID:SchoolNow
CALSCALE:GREGORIAN
BEGIN:VEVENT
UID:f646e376-cfa1-11f0-ad7a-02ced5e838d5
DTSTAMP:20251216T154634Z
SUMMARY:Girls Volleyball Practice
LOCATION:WJHS-1-Gym (500)
URL;VALUE=URI:https://www.cusd201.org/wjhs/calendar/8815673/girls-volleybal
 l-practice
DTSTART:20260127T211500Z
DTEND:20260127T231500Z
END:VEVENT
END:VCALENDAR
