BEGIN:VCALENDAR
VERSION:2.0
PRODID:SchoolNow
CALSCALE:GREGORIAN
BEGIN:VEVENT
UID:928d7010-d6cd-11f0-bd16-0affcff44df9
DTSTAMP:20251216T154635Z
SUMMARY:STEM Club Meeting
URL;VALUE=URI:https://www.cusd201.org/wjhs/calendar/8822483/stem-club-meeti
 ng
DTSTART:20260409T201500Z
DTEND:20260409T211500Z
END:VEVENT
END:VCALENDAR
