BEGIN:VCALENDAR
VERSION:2.0
PRODID:SchoolNow
CALSCALE:GREGORIAN
BEGIN:VEVENT
UID:928d73f8-d6cd-11f0-b107-0affcff44df9
DTSTAMP:20251216T154634Z
SUMMARY:STEM Club Meeting
URL;VALUE=URI:https://www.cusd201.org/wjhs/calendar/8822484/stem-club-meeti
 ng
DTSTART:20260312T201500Z
DTEND:20260312T211500Z
END:VEVENT
END:VCALENDAR
