BEGIN:VCALENDAR
VERSION:2.0
PRODID:SchoolNow
CALSCALE:GREGORIAN
BEGIN:VEVENT
UID:93093056-d6cd-11f0-a898-0affcff44df9
DTSTAMP:20251216T154634Z
SUMMARY:STEM Club Meeting
URL;VALUE=URI:https://www.cusd201.org/wjhs/calendar/8822485/stem-club-meeti
 ng
DTSTART:20260423T201500Z
DTEND:20260423T211500Z
END:VEVENT
END:VCALENDAR
