BEGIN:VCALENDAR
VERSION:2.0
PRODID:SchoolNow
CALSCALE:GREGORIAN
BEGIN:VEVENT
UID:93093484-d6cd-11f0-a672-0affcff44df9
DTSTAMP:20251216T154635Z
SUMMARY:STEM Club Meeting
URL;VALUE=URI:https://www.cusd201.org/wjhs/calendar/8822486/stem-club-meeti
 ng
DTSTART:20260219T211500Z
DTEND:20260219T221500Z
END:VEVENT
END:VCALENDAR
