BEGIN:VCALENDAR
VERSION:2.0
PRODID:SchoolNow
CALSCALE:GREGORIAN
BEGIN:VEVENT
UID:9315936e-d6cd-11f0-bfa6-0affcff44df9
DTSTAMP:20251216T154633Z
SUMMARY:STEM Club Meeting
URL;VALUE=URI:https://www.cusd201.org/wjhs/calendar/8822487/stem-club-meeti
 ng
DTSTART:20260115T211500Z
DTEND:20260115T221500Z
END:VEVENT
END:VCALENDAR
