BEGIN:VCALENDAR
VERSION:2.0
PRODID:SchoolNow
CALSCALE:GREGORIAN
BEGIN:VEVENT
UID:9331d6fa-d6cd-11f0-af62-0affcff44df9
DTSTAMP:20251216T154634Z
SUMMARY:STEM Club Meeting
URL;VALUE=URI:https://www.cusd201.org/wjhs/calendar/8822489/stem-club-meeti
 ng
DTSTART:20260203T211500Z
DTEND:20260203T221500Z
END:VEVENT
END:VCALENDAR
