BEGIN:VCALENDAR
VERSION:2.0
PRODID:SchoolNow
CALSCALE:GREGORIAN
BEGIN:VEVENT
UID:9341acec-d6cd-11f0-8c86-0affcff44df9
DTSTAMP:20251216T154634Z
SUMMARY:STEM Club Meeting
URL;VALUE=URI:https://www.cusd201.org/wjhs/calendar/8822490/stem-club-meeti
 ng
DTSTART:20260326T201500Z
DTEND:20260326T211500Z
END:VEVENT
END:VCALENDAR
