BEGIN:VCALENDAR
VERSION:2.0
PRODID:SchoolNow
CALSCALE:GREGORIAN
BEGIN:VEVENT
UID:91342d52-d700-11f0-9ce5-0287ce91bb35
DTSTAMP:20251216T154635Z
SUMMARY:PTO 8th Grade Dance Meeting
LOCATION:Westmont Junior High School\, 944 Oakwood Dr\, Westmont\, IL 60559
 \, USA Media Center
URL;VALUE=URI:https://www.cusd201.org/wjhs/calendar/8822693/pto-8th-grade-d
 ance-meeting
DTSTART:20260114T010000Z
DTEND:20260114T013000Z
END:VEVENT
END:VCALENDAR
