BEGIN:VCALENDAR
VERSION:2.0
PRODID:SchoolNow
CALSCALE:GREGORIAN
BEGIN:VEVENT
UID:73a156f8-d9ca-11f0-b4b6-0a58a9feac02
DTSTAMP:20251216T154633Z
SUMMARY:Wrestling Practice
LOCATION:WJHS-1-Gym (500)
URL;VALUE=URI:https://www.cusd201.org/wjhs/calendar/8823885/wrestling-pract
 ice
DTSTART:20260105T150000Z
DTEND:20260105T170000Z
END:VEVENT
END:VCALENDAR
